BEGIN:VCALENDAR
X-WR-TIMEZONE:Europe/Berlin
X-WR-CALNAME:rbb-Kalender
VERSION:2.0
METHOD:PUBLISH
CALSCALE:GREGORIAN
PRODID:rbb-CMS DAY
BEGIN:VEVENT
CLASS:PUBLIC
URL:http://www.rbb-online.de/content/rbb/rbb/heimatjournal/archiv/ulli-zelle-ist-in-berlin-unterwegs--zwischennutzung-urbaner-raeu.html
DTEND:20130817T192500
DTSTART:20130817T190000
UID:/content/rbb/rbb/heimatjournal/archiv/ulli-zelle-ist-in-berlin-unterwegs--zwischennutzung-urbaner-raeu
DTSTAMP:20140405T004333
DESCRIPTION:Kulisse für Neues - Die ehemaligen Opernwerkstätten +++ Schutz vor Vandalismus - Leben als Hauswächter +++ Verknappung als Prinzip - Pop-Up-Stores +++ Netzwerk gegen Leerstand - Konzepte für den Wedding +++ \n\n\n\n
SUMMARY:Ulli Zelle ist in Berlin unterwegs: Zwischennutzung urbaner Räume
END:VEVENT
END:VCALENDAR
