BEGIN:VCALENDAR
X-WR-TIMEZONE:Europe/Berlin
X-WR-CALNAME:rbb-Kalender
VERSION:2.0
METHOD:PUBLISH
CALSCALE:GREGORIAN
PRODID:rbb-CMS DAY
BEGIN:VEVENT
CLASS:PUBLIC
URL:http://www.rbb-online.de/content/rbb/rbb/heimatjournal/archiv/ulli-zelle-ist-in-berlin-unterwegs--zwischennutzung-von-urbanen-.html
DTEND:20130810T190000
DTSTART:20130810T190000
UID:/content/rbb/rbb/heimatjournal/archiv/ulli-zelle-ist-in-berlin-unterwegs--zwischennutzung-von-urbanen-
DTSTAMP:20140405T003942
DESCRIPTION:Regattastrecke mit Geschichte +++ Kleines Boot mit Zukunft +++ Altes Funkhaus mit neuem Leben +++ Früher konnten Familien hier Kaffee kochen: "Hanf's Ruh"\n\n\n
SUMMARY:Ulli Zelle ist in Berlin-Grünau unterwegs
END:VEVENT
END:VCALENDAR
