BEGIN:VCALENDAR
X-WR-TIMEZONE:Europe/Berlin
X-WR-CALNAME:rbb-Kalender
VERSION:2.0
METHOD:PUBLISH
CALSCALE:GREGORIAN
PRODID:rbb-CMS DAY
BEGIN:VEVENT
CLASS:PUBLIC
URL:http://www.rbb-online.de/content/rbb/rbb/heimatjournal/archiv/ulli-zelle-ist-in-brandenburg-unterwegs--geschichten-aus-bad-bel.html
DTEND:20140405T190000
DTSTART:20140405T190000
UID:/content/rbb/rbb/heimatjournal/archiv/ulli-zelle-ist-in-brandenburg-unterwegs--geschichten-aus-bad-bel
DTSTAMP:20140407T150250
DESCRIPTION:Mächtig gewaltig - das Roger-Loewig-Museum +++ Sehr lecker - Schokolade auf Burg Eisenhardt +++ Ganz schön hochprozentig - die Whisky-Destille\n\n\n
SUMMARY:Ulli Zelle ist in Brandenburg unterwegs: Geschichten aus Bad Belzig
END:VEVENT
END:VCALENDAR
