BEGIN:VCALENDAR
X-WR-TIMEZONE:Europe/Berlin
X-WR-CALNAME:rbb-Kalender
VERSION:2.0
METHOD:PUBLISH
CALSCALE:GREGORIAN
PRODID:rbb-CMS DAY
BEGIN:VEVENT
CLASS:PUBLIC
URL:http://www.rbb-online.de/content/rbb/rbb/heimatjournal/archiv/ulli_zelle_ist_in19.html
DTEND:20130511T190000
DTSTART:20130511T190000
UID:/content/rbb/rbb/heimatjournal/archiv/ulli_zelle_ist_in19
DTSTAMP:20140405T003703
DESCRIPTION:Hier können Bäume laufen +++ Hier wird für Biker gepredigt +++ Hier stehen die meisten Bänke vor den Häusern +++ Hier gibt es das kleinste Museum Brandenburgs
SUMMARY:Ulli Zelle ist in Brandenburg, im Holzschuhmacherdorf Friedrichswalde unterwegs
END:VEVENT
END:VCALENDAR
