BEGIN:VCALENDAR
X-WR-TIMEZONE:Europe/Berlin
X-WR-CALNAME:rbb-Kalender
VERSION:2.0
METHOD:PUBLISH
CALSCALE:GREGORIAN
PRODID:rbb-CMS DAY
BEGIN:VEVENT
CLASS:PUBLIC
URL:http://www.rbb-online.de/content/rbb/rbb/heimatjournal/archiv/ulli_zelle_ist_in20.html
DTEND:20130608T190000
DTSTART:20130608T190000
UID:/content/rbb/rbb/heimatjournal/archiv/ulli_zelle_ist_in20
DTSTAMP:20140405T004556
DESCRIPTION:Weinbautradition in Schlieben +++ Mühlentradition in Lebusa +++ Sammeltradition in Hohenbucko
SUMMARY:Ulli Zelle ist in Brandenburg unterwegs: Traditionen im Schliebener Land
END:VEVENT
END:VCALENDAR
