BEGIN:VCALENDAR
X-WR-TIMEZONE:Europe/Berlin
X-WR-CALNAME:rbb-Kalender
VERSION:2.0
METHOD:PUBLISH
CALSCALE:GREGORIAN
PRODID:rbb-CMS DAY
BEGIN:VEVENT
CLASS:PUBLIC
URL:http://www.rbb-online.de/content/rbb/rbb/heimatjournal/archiv/ulli_zelle_ist_in23.html
DTEND:20130706T192600
DTSTART:20130706T190000
UID:/content/rbb/rbb/heimatjournal/archiv/ulli_zelle_ist_in23
DTSTAMP:20140405T004312
DESCRIPTION:Floßfahrt in Spreenhagen +++ Honigkirche in Hartmannsdorf+++ Sieben Friedhöfe in Markgrafpieske
SUMMARY:Ulli Zelle ist in Brandenburg unterwegs: ein Ausflug nach Spreenhagen
END:VEVENT
END:VCALENDAR
