BEGIN:VCALENDAR
X-WR-TIMEZONE:Europe/Berlin
X-WR-CALNAME:rbb-Kalender
VERSION:2.0
METHOD:PUBLISH
CALSCALE:GREGORIAN
PRODID:rbb-CMS DAY
BEGIN:VEVENT
CLASS:PUBLIC
URL:http://www.rbb-online.de/content/rbb/rbb/himmelunderde/archiv/20130803_1800/asyl-in-deutschland.html
DTEND:20130803T183000
DTSTART:20130803T180000
UID:/content/rbb/rbb/himmelunderde/archiv/20130803_1800/asyl-in-deutschland
DTSTAMP:20140405T222609
DESCRIPTION:"Wir können ja schließlich nicht alle aufnehmen" wird mancher sagen. Andererseits drängt sich wieder das Bild von der Festung Europa auf. – Friederike Sittler im Gespräch mit der Journalistin Ursula Voßhenrich, die über Jahre die Asyl-Debatten verfolgt hat.\n
SUMMARY:Asyl in Deutschland
END:VEVENT
END:VCALENDAR
