BEGIN:VCALENDAR
X-WR-TIMEZONE:Europe/Berlin
X-WR-CALNAME:rbb-Kalender
VERSION:2.0
METHOD:PUBLISH
CALSCALE:GREGORIAN
PRODID:rbb-CMS DAY
BEGIN:VEVENT
CLASS:PUBLIC
URL:http://www.rbb-online.de/content/rbb/rbb/himmelunderde/archiv/20130803_1800/nach-der-flut.html
DTEND:20130803T183000
DTSTART:20130803T180000
UID:/content/rbb/rbb/himmelunderde/archiv/20130803_1800/nach-der-flut
DTSTAMP:20140406T123012
DESCRIPTION:Anfang Juni sahen wir tagelang im Fernsehen fast nichts anderes als die Bilder der Fluten. Aber was ist jetzt eigentlich, wo die Flüsse längst wieder in ihrem angestammten Bett fließen? Was wurde aus Sandsäcken, überfluteten Kellern und Feldern?\n
SUMMARY:Nach der Flut
END:VEVENT
END:VCALENDAR
