BEGIN:VCALENDAR
X-WR-TIMEZONE:Europe/Berlin
X-WR-CALNAME:rbb-Kalender
VERSION:2.0
METHOD:PUBLISH
CALSCALE:GREGORIAN
PRODID:rbb-CMS DAY
BEGIN:VEVENT
CLASS:PUBLIC
URL:http://www.rbb-online.de/content/rbb/rbb/himmelunderde/archiv/20130803_1800/rollenspiele.html
DTEND:20130803T183000
DTSTART:20130803T180000
UID:/content/rbb/rbb/himmelunderde/archiv/20130803_1800/rollenspiele
DTSTAMP:20140406T122929
DESCRIPTION:Haben Sie auch schon einmal gedacht, was wäre eigentlich, wenn ich in einem anderen Jahrhundert gelebt hätte? Wäre ich Magd oder Prinzessin gewesen oder eine Fantasy-Gestalt wie in den Romanen von Tolkien? Eine katholische Akademie in Niedersachsen bietet dazu ein Rollenspiel an.\n\n\n
SUMMARY:Rollenspiele
END:VEVENT
END:VCALENDAR
