BEGIN:VCALENDAR
X-WR-TIMEZONE:Europe/Berlin
X-WR-CALNAME:rbb-Kalender
VERSION:2.0
METHOD:PUBLISH
CALSCALE:GREGORIAN
PRODID:rbb-CMS DAY
BEGIN:VEVENT
CLASS:PUBLIC
URL:http://www.rbb-online.de/content/rbb/rbb/himmelunderde/archiv/20130907_1800/mundraub.html
DTEND:20130907T180000
DTSTART:20130907T180000
UID:/content/rbb/rbb/himmelunderde/archiv/20130907_1800/mundraub
DTSTAMP:20140406T123354
DESCRIPTION:Mal über den Zaun langen und ein paar der schönsten Mirabellen des Nachbarn pflücken - reizvoll, aber verboten. Wie man redlich und gesetzestreu dennoch "Mundraub" begehen kann, weiß eine Webseite, die herrenlose Obstbäume und verlassenen Gärten kennt.\n
SUMMARY:Mundraub – ganz legal
END:VEVENT
END:VCALENDAR
