BEGIN:VCALENDAR
X-WR-TIMEZONE:Europe/Berlin
X-WR-CALNAME:rbb-Kalender
VERSION:2.0
METHOD:PUBLISH
CALSCALE:GREGORIAN
PRODID:rbb-CMS DAY
BEGIN:VEVENT
CLASS:PUBLIC
URL:http://www.rbb-online.de/content/rbb/rbb/himmelunderde/archiv/20131005_1800/Einfach-verdraengen.html
DTEND:20131005T183000
DTSTART:20131005T180000
UID:/content/rbb/rbb/himmelunderde/archiv/20131005_1800/Einfach-verdraengen
DTSTAMP:20140404T175147
DESCRIPTION:Viele Berliner mit geringem Einkommen können es sich nicht mehr leisten, im Zentrum der Stadt zu leben. Sie müssen ihre Wohnungen oder auch ihre Werkstatt verlassen.\n
SUMMARY:Einfach verdrängen!
END:VEVENT
END:VCALENDAR
