BEGIN:VCALENDAR
X-WR-TIMEZONE:Europe/Berlin
X-WR-CALNAME:rbb-Kalender
VERSION:2.0
METHOD:PUBLISH
CALSCALE:GREGORIAN
PRODID:rbb-CMS DAY
BEGIN:VEVENT
CLASS:PUBLIC
URL:http://www.rbb-online.de/content/rbb/rbb/himmelunderde/archiv/20131005_1800/Hof-der-Hoffnung.html
DTEND:20131005T183000
DTSTART:20131005T180000
UID:/content/rbb/rbb/himmelunderde/archiv/20131005_1800/Hof-der-Hoffnung
DTSTAMP:20140404T175321
DESCRIPTION:Die Fazenda Gut Neuhof liegt bei Nauen. Für ein Jahr können hier ehemals Drogenabhängige ein selbstbestimmtes Leben lernen.\n
SUMMARY:Hof der Hoffnung
END:VEVENT
END:VCALENDAR
