BEGIN:VCALENDAR
X-WR-TIMEZONE:Europe/Berlin
X-WR-CALNAME:rbb-Kalender
VERSION:2.0
METHOD:PUBLISH
CALSCALE:GREGORIAN
PRODID:rbb-CMS DAY
BEGIN:VEVENT
CLASS:PUBLIC
URL:http://www.rbb-online.de/content/rbb/rbb/himmelunderde/archiv/20131005_1800/Ueberfordert-mit-Lesen-und-Schreiben.html
DTEND:20131005T183000
DTSTART:20131005T180000
UID:/content/rbb/rbb/himmelunderde/archiv/20131005_1800/Ueberfordert-mit-Lesen-und-Schreiben
DTSTAMP:20140404T175537
DESCRIPTION:Sieben Millionen funktionale Analphabeten gibt es in Deutschland. Sie kennen in der Regel die Buchstaben, können aber selbst kleine zusammenhängende Texte nicht inhaltlich verstehen und nacherzählen.\n
SUMMARY:Überfordert mit Lesen und Schreiben
END:VEVENT
END:VCALENDAR
