BEGIN:VCALENDAR
X-WR-TIMEZONE:Europe/Berlin
X-WR-CALNAME:rbb-Kalender
VERSION:2.0
METHOD:PUBLISH
CALSCALE:GREGORIAN
PRODID:rbb-CMS DAY
BEGIN:VEVENT
CLASS:PUBLIC
URL:http://www.rbb-online.de/content/rbb/rbb/himmelunderde/archiv/20131102_1800/7.html
DTEND:20131102T183000
DTSTART:20131102T180000
UID:/content/rbb/rbb/himmelunderde/archiv/20131102_1800/7
DTSTAMP:20140404T175454
DESCRIPTION:Am 10. November vor 100 Jahren wurde die Jesus-Christus-Kirche in Falkenberg an der Elster geweiht. Wie in vielen Kirchen wurden im Zweiten Weltkrieg auch in Falkenberg zwei alte Bronze-Glocken vom Turm geholt und für die Rüstung eingeschmolzen…\n
SUMMARY:Glocken für eine Hundertjährige
END:VEVENT
END:VCALENDAR
