BEGIN:VCALENDAR
X-WR-TIMEZONE:Europe/Berlin
X-WR-CALNAME:rbb-Kalender
VERSION:2.0
METHOD:PUBLISH
CALSCALE:GREGORIAN
PRODID:rbb-CMS DAY
BEGIN:VEVENT
CLASS:PUBLIC
URL:http://www.rbb-online.de/content/rbb/rbb/himmelunderde/archiv/20131102_1800/versoehnung-Nagelkreuz.html
DTEND:20131102T183000
DTSTART:20131102T180000
UID:/content/rbb/rbb/himmelunderde/archiv/20131102_1800/versoehnung-Nagelkreuz
DTSTAMP:20140404T175120
DESCRIPTION:Im November 1940 versank Coventry durch deutsche Bomben in Schutt und Asche. Auch das Wahrzeichen der Stadt, die mittelalterliche Kathedrale St. Michael, wurde zerstört. Aus den Trümmern des Dachstuhls zog der damalige Dompropst drei große Nägel und ließ sie zu einem Kreuz zusammensetzen - bis heute steht dieses Kreuz für Frieden und Versöhnung.\n
SUMMARY:Versöhnung unter dem Nagelkreuz
END:VEVENT
END:VCALENDAR
