BEGIN:VCALENDAR
X-WR-TIMEZONE:Europe/Berlin
X-WR-CALNAME:rbb-Kalender
VERSION:2.0
METHOD:PUBLISH
CALSCALE:GREGORIAN
PRODID:rbb-CMS DAY
BEGIN:VEVENT
CLASS:PUBLIC
URL:http://www.rbb-online.de/content/rbb/rbb/himmelunderde/archiv/20131207_1800.html
DTEND:20131207T183000
DTSTART:20131207T180000
UID:/content/rbb/rbb/himmelunderde/archiv/20131207_1800
DTSTAMP:20140404T175051
DESCRIPTION:+++ Projekt "HundeDoc" für Straßenkinder +++ Pyramiden in der Prignitz +++ Katechese in der Küche +++ Atelier Omanut +++ Weihnachtsgeschichte 2013 +++ Der Himmel und Erde - Cocktail +++\n\n\n
SUMMARY:Himmel und Erde vom 07.12.2013
END:VEVENT
END:VCALENDAR
