BEGIN:VCALENDAR
X-WR-TIMEZONE:Europe/Berlin
X-WR-CALNAME:rbb-Kalender
VERSION:2.0
METHOD:PUBLISH
CALSCALE:GREGORIAN
PRODID:rbb-CMS DAY
BEGIN:VEVENT
CLASS:PUBLIC
URL:http://www.rbb-online.de/content/rbb/rbb/himmelunderde/archiv/20131207_1800/hundedoc.html
DTEND:20131207T183000
DTSTART:20131207T180000
UID:/content/rbb/rbb/himmelunderde/archiv/20131207_1800/hundedoc
DTSTAMP:20140404T175203
DESCRIPTION:Etwa 1.800 Kinder und Jugendliche in Berlin leben überwiegend auf der Straße. Viele von ihnen halten Hunde. Die Klagen über den schlechten Zustand der Tiere mehrten sich. So entstand die Idee für eine mobile medizinische Versorgung: das Projekt HundeDoc.\n\n\n
SUMMARY:Projekt "HundeDoc" für Straßenkinder
END:VEVENT
END:VCALENDAR
