BEGIN:VCALENDAR
X-WR-TIMEZONE:Europe/Berlin
X-WR-CALNAME:rbb-Kalender
VERSION:2.0
METHOD:PUBLISH
CALSCALE:GREGORIAN
PRODID:rbb-CMS DAY
BEGIN:VEVENT
CLASS:PUBLIC
URL:http://www.rbb-online.de/content/rbb/rbb/himmelunderde/archiv/20131207_1800/omanut.html
DTEND:20131207T183000
DTSTART:20131207T180000
UID:/content/rbb/rbb/himmelunderde/archiv/20131207_1800/omanut
DTSTAMP:20140404T175247
DESCRIPTION:"Omanut" ist das hebräische Wort für Kunst. Gegründet wurde die Einrichtung von der Zentralwohlfahrtsstelle der Juden in Deutschland. Judith Tarazi arbeitete als freie Grafikerin, bevor sie als Kunsttherapeutin hierher kam. Ihr heilpädagogischer Ansatz: Kreative Arbeit soll die Ressourcen und das Selbstvertrauen der Teilnehmer stärken.\n\n\n
SUMMARY:Atelier Omanut
END:VEVENT
END:VCALENDAR
