BEGIN:VCALENDAR
X-WR-TIMEZONE:Europe/Berlin
X-WR-CALNAME:rbb-Kalender
VERSION:2.0
METHOD:PUBLISH
CALSCALE:GREGORIAN
PRODID:rbb-CMS DAY
BEGIN:VEVENT
CLASS:PUBLIC
URL:http://www.rbb-online.de/content/rbb/rbb/himmelunderde/archiv/20140104_1800/farben.html
DTEND:20140104T183000
DTSTART:20140104T180000
UID:/content/rbb/rbb/himmelunderde/archiv/20140104_1800/farben
DTSTAMP:20140404T175128
DESCRIPTION:Für behinderte Menschen, die keine Ausbildung finden, ist eine "Betreute Ausbildungswerkstatt" oft die einzige Chance. Belal, ein gehörloser Malerlehrling, hat eine andere Möglichkeit gesucht – und im Berliner Malerbetrieb Ates auch gefunden.\n\n\n
SUMMARY:Farben kann man nicht hören
END:VEVENT
END:VCALENDAR
