BEGIN:VCALENDAR
X-WR-TIMEZONE:Europe/Berlin
X-WR-CALNAME:rbb-Kalender
VERSION:2.0
METHOD:PUBLISH
CALSCALE:GREGORIAN
PRODID:rbb-CMS DAY
BEGIN:VEVENT
CLASS:PUBLIC
URL:http://www.rbb-online.de/content/rbb/rbb/himmelunderde/archiv/20140104_1800/gespraech.html
DTEND:20140104T183000
DTSTART:20140104T180000
UID:/content/rbb/rbb/himmelunderde/archiv/20140104_1800/gespraech
DTSTAMP:20140404T175310
DESCRIPTION:Mehr als 12.000 Patienten stehen in Deutschland auf Wartelisten für Organtransplantationen – doch nur einem Viertel von ihnen kann geholfen werden. Friederike Sittler im Gespräch mit Prof. Dr. Gero Puhl, Transplantationschirurg am Virchow-Klinikum der Berliner Charité.\n\n\n
SUMMARY:Wenn der Tod dem Leben hilft
END:VEVENT
END:VCALENDAR
