BEGIN:VCALENDAR
X-WR-TIMEZONE:Europe/Berlin
X-WR-CALNAME:rbb-Kalender
VERSION:2.0
METHOD:PUBLISH
CALSCALE:GREGORIAN
PRODID:rbb-CMS DAY
BEGIN:VEVENT
CLASS:PUBLIC
URL:http://www.rbb-online.de/content/rbb/rbb/himmelunderde/archiv/20140104_1800/organspende.html
DTEND:20140104T183000
DTSTART:20140104T180000
UID:/content/rbb/rbb/himmelunderde/archiv/20140104_1800/organspende
DTSTAMP:20140404T175354
DESCRIPTION:Gerade mal 25 Jahre war Markus als die Kupferspeicherkrankheit „Morbus Wilson“ seine Leber zerstörte. Die Diagnose war erschütternd: Nur eine Organtransplantation konnte sein Leben retten. Fünf Jahre ist die Transplantation jetzt her und in Markus’ Leben hat sich einiges verändert.\n\n\n
SUMMARY:Organspende schenkt Leben
END:VEVENT
END:VCALENDAR
