BEGIN:VCALENDAR
X-WR-TIMEZONE:Europe/Berlin
X-WR-CALNAME:rbb-Kalender
VERSION:2.0
METHOD:PUBLISH
CALSCALE:GREGORIAN
PRODID:rbb-CMS DAY
BEGIN:VEVENT
CLASS:PUBLIC
URL:http://www.rbb-online.de/content/rbb/rbb/himmelunderde/archiv/20140201_1800.html
DTEND:20140201T183000
DTSTART:20140201T180000
UID:/content/rbb/rbb/himmelunderde/archiv/20140201_1800
DTSTAMP:20140404T174725
DESCRIPTION:+++ Sharon Brauner – Musik mit Temperament und Melancholie +++ Die Marzahner Manege +++ Reiches Land – Arme Kinder? +++ Sister Act im Plattenbau +++\n\n\n
SUMMARY:Himmel und Erde vom 01.02.2014
END:VEVENT
END:VCALENDAR
