BEGIN:VCALENDAR
X-WR-TIMEZONE:Europe/Berlin
X-WR-CALNAME:rbb-Kalender
VERSION:2.0
METHOD:PUBLISH
CALSCALE:GREGORIAN
PRODID:rbb-CMS DAY
BEGIN:VEVENT
CLASS:PUBLIC
URL:http://www.rbb-online.de/content/rbb/rbb/himmelunderde/archiv/20140201_1800/sister_act.html
DTEND:20140201T183000
DTSTART:20140201T180000
UID:/content/rbb/rbb/himmelunderde/archiv/20140201_1800/sister_act
DTSTAMP:20140404T175503
DESCRIPTION:Mitten im Gewerbepark, mitten in Marzahn trifft sich eine stetig wachsende afrikanische Gemeinde, deren Ursprung in Nigeria liegt und die der Pfingstbewegung zuzurechnen ist. Bekannt wurde sie auch durch eine bemerkenswert gute Integrationsarbeit.\n\n\n
SUMMARY:Sister Act im Plattenbau
END:VEVENT
END:VCALENDAR
