BEGIN:VCALENDAR
X-WR-TIMEZONE:Europe/Berlin
X-WR-CALNAME:rbb-Kalender
VERSION:2.0
METHOD:PUBLISH
CALSCALE:GREGORIAN
PRODID:rbb-CMS DAY
BEGIN:VEVENT
CLASS:PUBLIC
URL:http://www.rbb-online.de/content/rbb/rbb/himmelunderde/archiv/20140301_1800/1.html
DTEND:20140301T183000
DTSTART:20140301T180000
UID:/content/rbb/rbb/himmelunderde/archiv/20140301_1800/1
DTSTAMP:20140404T174836
DESCRIPTION:Immer mehr Filme werden mit akustischen Bildbeschreibungen, so genannten Audiodeskriptionen, versehen. Viele Blinde und Sehbehinderte gehen gern ins Kino. Anders als allein vorm Fernseher fühlen sie sich hier als Teil der Gesellschaft. Wie funktioniert so ein Text zum Film und was bedeutet die Audiodeskription für blinde Kinofans?\n\n\n
SUMMARY:Filme für die Ohren
END:VEVENT
END:VCALENDAR
