BEGIN:VCALENDAR
X-WR-TIMEZONE:Europe/Berlin
X-WR-CALNAME:rbb-Kalender
VERSION:2.0
METHOD:PUBLISH
CALSCALE:GREGORIAN
PRODID:rbb-CMS DAY
BEGIN:VEVENT
CLASS:PUBLIC
URL:http://www.rbb-online.de/content/rbb/rbb/himmelunderde/archiv/20140301_1800/2.html
DTEND:20140301T183000
DTSTART:20140301T180000
UID:/content/rbb/rbb/himmelunderde/archiv/20140301_1800/2
DTSTAMP:20140404T175520
DESCRIPTION:Ein Asylbewerberheim in Hoyerswerda. - 1991 war das gründlich schief gegangen. Die Stadt seitdem Synonym für Ausländerfeindlichkeit, rohe Gewalt und blinden Hass. Nun also ein neuer Anlauf. Und diesmal soll alles anders werden. Dafür sorgen wollen mehrere Initiativen, so auch das Bürgerbündnis "Hoyerswerda hilft mit Herz".\n\n\n
SUMMARY:Hoyerswerda hilft mit Herz
END:VEVENT
END:VCALENDAR
