BEGIN:VCALENDAR
X-WR-TIMEZONE:Europe/Berlin
X-WR-CALNAME:rbb-Kalender
VERSION:2.0
METHOD:PUBLISH
CALSCALE:GREGORIAN
PRODID:rbb-CMS DAY
BEGIN:VEVENT
CLASS:PUBLIC
URL:http://www.rbb-online.de/content/rbb/rbb/himmelunderde/archiv/20140301_1800/3.html
DTEND:20140301T183000
DTSTART:20140301T180000
UID:/content/rbb/rbb/himmelunderde/archiv/20140301_1800/3
DTSTAMP:20140404T175550
DESCRIPTION:Es sind wenige, aber sie sind nach wie vor aktiv - die Neonazis in Hoyerswerda. Im Unterschied zu 1991 gibt es heute jedoch eine starke Gegenbewegung: Vom einfachen Bürger über Parteien und Vereine bis zu Bürgermeister und Kirchen. Wird es der Zivilgesellschaft gelingen, die Stadt zu einem Zuhause für Flüchtlinge und Asylsuchende werden zu lassen?\n\n\n
SUMMARY:Zweiter Anlauf für Moral und Toleranz
END:VEVENT
END:VCALENDAR
