BEGIN:VCALENDAR
X-WR-TIMEZONE:Europe/Berlin
X-WR-CALNAME:rbb-Kalender
VERSION:2.0
METHOD:PUBLISH
CALSCALE:GREGORIAN
PRODID:rbb-CMS DAY
BEGIN:VEVENT
CLASS:PUBLIC
URL:http://www.rbb-online.de/content/rbb/rbb/himmelunderde/archiv/20140405_1800/aramaeisch.html
DTEND:20140405T183000
DTSTART:20140405T180000
UID:/content/rbb/rbb/himmelunderde/archiv/20140405_1800/aramaeisch
DTSTAMP:20140408T055052
DESCRIPTION:Die Universität Potsdam bietet seit letztem Jahr das Studienfach Jüdische Theologie an. Damit wird das Wissen über das Judentum nun in Deutschland genauso gelehrt wie die christliche oder islamische Theologie.\n\n\n
SUMMARY:Aramäisch für Anfänger
END:VEVENT
END:VCALENDAR
