BEGIN:VCALENDAR
X-WR-TIMEZONE:Europe/Berlin
X-WR-CALNAME:rbb-Kalender
VERSION:2.0
METHOD:PUBLISH
CALSCALE:GREGORIAN
PRODID:rbb-CMS DAY
BEGIN:VEVENT
CLASS:PUBLIC
URL:http://www.rbb-online.de/content/rbb/rbb/himmelunderde/archiv/20140405_1800/gespraech.html
DTEND:20140405T183000
DTSTART:20140405T180000
UID:/content/rbb/rbb/himmelunderde/archiv/20140405_1800/gespraech
DTSTAMP:20140408T055120
DESCRIPTION:Verletzte und Geschädigte brauchen behutsame und unbürokratische Hilfe.\n\nZum Schwerpunktthema dieser Sendung ein Gespräch mit Sophia Edeling, Leiterin einer der Außenstellen des WEISSEN RINGS in Berlin sowie Zahlen und Fakten aus der Berliner Kriminalstatistik 2013.\n\n\n
SUMMARY:Der WEISSE RING
END:VEVENT
END:VCALENDAR
