BEGIN:VCALENDAR
X-WR-TIMEZONE:Europe/Berlin
X-WR-CALNAME:rbb-Kalender
VERSION:2.0
METHOD:PUBLISH
CALSCALE:GREGORIAN
PRODID:rbb-CMS DAY
BEGIN:VEVENT
CLASS:PUBLIC
URL:http://www.rbb-online.de/content/rbb/rbb/himmelunderde/archiv/20140405_1800/heimwegtelefon.html
DTEND:20140405T183000
DTSTART:20140405T180000
UID:/content/rbb/rbb/himmelunderde/archiv/20140405_1800/heimwegtelefon
DTSTAMP:20140408T055045
DESCRIPTION:Sicherheit durchs Handy am Ohr - eine Initiative, die helfen soll Ängste zu überwinden und Frauen auf dem nächtlichen Nachhauseweg nicht zum Opfer werden zu lassen. Das Heimwegtelefon - eine Dienstleistungsidee, die noch in den Kinderschuhen steckt, aber bereits Zuspruch findet.\n\n\n
SUMMARY:Heimwegtelefon
END:VEVENT
END:VCALENDAR
