BEGIN:VCALENDAR
X-WR-TIMEZONE:Europe/Berlin
X-WR-CALNAME:rbb-Kalender
VERSION:2.0
METHOD:PUBLISH
CALSCALE:GREGORIAN
PRODID:rbb-CMS DAY
BEGIN:VEVENT
CLASS:PUBLIC
URL:http://www.rbb-online.de/content/rbb/rbb/himmelunderde/archiv/himmel_und_erde_vom14.html
DTEND:20130504T180000
DTSTART:20130504T180000
UID:/content/rbb/rbb/himmelunderde/archiv/himmel_und_erde_vom14
DTSTAMP:20140405T123022
DESCRIPTION:+++ Hilfe zum Lernen und Leben +++ Zwischen Gebet und Trapez +++ Nominiert für den Schulpreis +++ Traumpaar dank Traumdisco +++ NACHGEFRAGT +++ Gedenkkirche Maria Regina Martyrum +++\n
SUMMARY:HIMMEL und ERDE vom 04.05.2013
END:VEVENT
END:VCALENDAR
