BEGIN:VCALENDAR
X-WR-TIMEZONE:Europe/Berlin
X-WR-CALNAME:rbb-Kalender
VERSION:2.0
METHOD:PUBLISH
CALSCALE:GREGORIAN
PRODID:rbb-CMS DAY
BEGIN:VEVENT
CLASS:PUBLIC
URL:http://www.rbb-online.de/content/rbb/rbb/himmelunderde/archiv/himmel_und_erde_vom15/kleidertausch___der.html
DTEND:20130601T180000
DTSTART:20130601T180000
UID:/content/rbb/rbb/himmelunderde/archiv/himmel_und_erde_vom15/kleidertausch___der
DTSTAMP:20140406T123135
DESCRIPTION:Shopping war gestern, heute ist „swappen“ angesagt. In einem Berliner Kosmetikladen hat die Designerin Karin Fröhlich zur Kleidertauschparty eingeladen. Wer das schon kennt, freut sich von Anfang an auf modische Überraschungen.\n
SUMMARY:Kleidertausch – Der modische Akzent des Sharing
END:VEVENT
END:VCALENDAR
