BEGIN:VCALENDAR
X-WR-TIMEZONE:Europe/Berlin
X-WR-CALNAME:rbb-Kalender
VERSION:2.0
METHOD:PUBLISH
CALSCALE:GREGORIAN
PRODID:rbb-CMS DAY
BEGIN:VEVENT
CLASS:PUBLIC
URL:http://www.rbb-online.de/content/rbb/rbb/himmelunderde/archiv/himmel_und_erde_vom15/teilen__tauschen_.html
DTEND:20130601T180000
DTSTART:20130601T180000
UID:/content/rbb/rbb/himmelunderde/archiv/himmel_und_erde_vom15/teilen__tauschen_
DTSTAMP:20140406T123040
DESCRIPTION:Friederike Sittler im Gespräch mit Prof. Dr. Harald Welzer, Soziologe und Direktor der "Futur2 – Stiftung Zukunftsfähigkeit".\n
SUMMARY:Teilen, Tauschen, nachhaltig Wirtschaften – Ideal oder Illusion?
END:VEVENT
END:VCALENDAR
