BEGIN:VCALENDAR
X-WR-TIMEZONE:Europe/Berlin
X-WR-CALNAME:rbb-Kalender
VERSION:2.0
METHOD:PUBLISH
CALSCALE:GREGORIAN
PRODID:rbb-CMS DAY
BEGIN:VEVENT
CLASS:PUBLIC
URL:http://www.rbb-online.de/content/rbb/rbb/himmelunderde/archiv/himmel_und_erde_vom15/teilen_statt_besitzen.html
DTEND:20130601T180000
DTSTART:20130601T180000
UID:/content/rbb/rbb/himmelunderde/archiv/himmel_und_erde_vom15/teilen_statt_besitzen
DTSTAMP:20140406T123052
DESCRIPTION:Das, was man hat, besser zu nutzen, ist die Basis einer neuen Bewegung, die sich vor allem durch das Internet rasant ausbreitet: die Idee des Teilens und Tauschens, die „Sharing Economy“. Sie hat das Potential, unser Konsumverhalten zu revolutionieren.\n
SUMMARY:Teilen statt Besitzen
END:VEVENT
END:VCALENDAR
