BEGIN:VCALENDAR
X-WR-TIMEZONE:Europe/Berlin
X-WR-CALNAME:rbb-Kalender
VERSION:2.0
METHOD:PUBLISH
CALSCALE:GREGORIAN
PRODID:rbb-CMS DAY
BEGIN:VEVENT
CLASS:PUBLIC
URL:http://www.rbb-online.de/content/rbb/rbb/himmelunderde/archiv/himmel_und_erde_vom16.html
DTEND:20130706T180000
DTSTART:20130706T180000
UID:/content/rbb/rbb/himmelunderde/archiv/himmel_und_erde_vom16
DTSTAMP:20140405T123135
DESCRIPTION:Mit der Sommerausgabe von HIMMEL und ERDE meldet sich Friederike Sittler aus dem grünen Prenzlau.\n
SUMMARY:HIMMEL und ERDE vom 06.07.2013
END:VEVENT
END:VCALENDAR
