BEGIN:VCALENDAR
X-WR-TIMEZONE:Europe/Berlin
X-WR-CALNAME:rbb-Kalender
VERSION:2.0
METHOD:PUBLISH
CALSCALE:GREGORIAN
PRODID:rbb-CMS DAY
BEGIN:VEVENT
CLASS:PUBLIC
URL:http://www.rbb-online.de/content/rbb/rbb/himmelunderde/archiv/himmel_und_erde_vom16/altersheim_fuer_tiere.html
DTEND:20130706T180000
DTSTART:20130706T180000
UID:/content/rbb/rbb/himmelunderde/archiv/himmel_und_erde_vom16/altersheim_fuer_tiere
DTSTAMP:20140406T123422
DESCRIPTION:Gisela, Frau Lotti und Lore – sind Kühe. Sie hatten das gleiche Schicksal: Ein arbeitsreiches Leben hinter und den Schlachter vor sich. Auf Hof Butenland, unweit der Nordsee, wird ihnen die Würde zurückgegeben.
SUMMARY:Altersheim für Tiere
END:VEVENT
END:VCALENDAR
