BEGIN:VCALENDAR
X-WR-TIMEZONE:Europe/Berlin
X-WR-CALNAME:rbb-Kalender
VERSION:2.0
METHOD:PUBLISH
CALSCALE:GREGORIAN
PRODID:rbb-CMS DAY
BEGIN:VEVENT
CLASS:PUBLIC
URL:http://www.rbb-online.de/content/rbb/rbb/himmelunderde/reportagen/die-alten-wg.html
DTEND:20140329T180000
DTSTART:20140329T180000
UID:/content/rbb/rbb/himmelunderde/reportagen/die-alten-wg
DTSTAMP:20140404T222301
DESCRIPTION:In der Alten‑WG von Brigitte Ponstein kriselt es. Vor zwei Jahren ist die 71‑Jährige mit drei Freundinnen in eine große Altbauwohnung in Berlin‑Steglitz gezogen, um ihren Traum vom gemeinsamen Wohnen im Alter zu verwirklichen. Doch von Anfang an gab es Probleme.\n
SUMMARY:Die Alten WG
END:VEVENT
END:VCALENDAR
