BEGIN:VCALENDAR
X-WR-TIMEZONE:Europe/Berlin
X-WR-CALNAME:rbb-Kalender
VERSION:2.0
METHOD:PUBLISH
CALSCALE:GREGORIAN
PRODID:rbb-CMS DAY
BEGIN:VEVENT
CLASS:PUBLIC
URL:http://www.rbb-online.de/content/rbb/rbb/himmelunderde/reportagen/himmlische-wohlgerueche.html
DTEND:20131221T180000
DTSTART:20131221T180000
UID:/content/rbb/rbb/himmelunderde/reportagen/himmlische-wohlgerueche
DTSTAMP:20140405T123433
DESCRIPTION:Keine Zeit des Jahres ist so erfüllt von Wohlgerüchen wie die Advents- und Weihnachtszeit.\n
SUMMARY:Himmlische Wohlgerüche
END:VEVENT
END:VCALENDAR
