BEGIN:VCALENDAR
X-WR-TIMEZONE:Europe/Berlin
X-WR-CALNAME:rbb-Kalender
VERSION:2.0
METHOD:PUBLISH
CALSCALE:GREGORIAN
PRODID:rbb-CMS DAY
BEGIN:VEVENT
CLASS:PUBLIC
URL:http://www.rbb-online.de/content/rbb/rbb/himmelunderde/reportagen/rabenmuetter.html
DTEND:20140111T180000
DTSTART:20140111T180000
UID:/content/rbb/rbb/himmelunderde/reportagen/rabenmuetter
DTSTAMP:20140405T123314
DESCRIPTION:Eine Mutter packt die Koffer. Kati zieht zu einem neuen Freund nach Bayern. Mit ihm Gepäck: der Lieblingsteddy ihres achtjährigen Sohnes und die Puppe ihrer zehnjährigen Tochter. Aber ihre Kinder lässt sie zurück beim Vater.\n
SUMMARY:Rabenmütter
END:VEVENT
END:VCALENDAR
