BEGIN:VCALENDAR
X-WR-TIMEZONE:Europe/Berlin
X-WR-CALNAME:rbb-Kalender
VERSION:2.0
METHOD:PUBLISH
CALSCALE:GREGORIAN
PRODID:rbb-CMS DAY
BEGIN:VEVENT
CLASS:PUBLIC
URL:http://www.rbb-online.de/content/rbb/rbb/hoerbarrust/Archiv/maria-simon.html
DTEND:20130502T233000
DTSTART:20130502T233000
UID:/content/rbb/rbb/hoerbarrust/Archiv/maria-simon
DTSTAMP:20140405T010211
DESCRIPTION:Geboren 1976 in Leipzig, wächst Maria ebendort bei ihren Großeltern auf, weil ihre Eltern beruflich nach Amerika gehen.\n
SUMMARY:Maria Simon im Gespräch mit Bettina Rust
END:VEVENT
END:VCALENDAR
