BEGIN:VCALENDAR
X-WR-TIMEZONE:Europe/Berlin
X-WR-CALNAME:rbb-Kalender
VERSION:2.0
METHOD:PUBLISH
CALSCALE:GREGORIAN
PRODID:rbb-CMS DAY
BEGIN:VEVENT
CLASS:PUBLIC
URL:http://www.rbb-online.de/content/rbb/rbb/hunderter_bus/Archiv/hunderter_bus2.html
DTEND:20130620T221500
DTSTART:20130620T221500
UID:/content/rbb/rbb/hunderter_bus/Archiv/hunderter_bus2
DTSTAMP:20140405T040443
DESCRIPTION:Moderatorin Bettina Böttinger und Sternekoch Kolja Kleeberg erzählen, was sie mit Berlin verbindet und erinnern sich an einzelne Stationen des "Hunderter", die in ihrem Leben eine Rolle spielten.\n
SUMMARY:Hunderter Bus (2/2013)
END:VEVENT
END:VCALENDAR
