BEGIN:VCALENDAR
X-WR-TIMEZONE:Europe/Berlin
X-WR-CALNAME:rbb-Kalender
VERSION:2.0
METHOD:PUBLISH
CALSCALE:GREGORIAN
PRODID:rbb-CMS DAY
BEGIN:VEVENT
CLASS:PUBLIC
URL:http://www.rbb-online.de/content/rbb/rbb/imparlament/heute-im-parlament/archiv/heute-im-parlament-vom-02-04-2014---potsdam.html
DTEND:20140402T170000
DTSTART:20140402T160500
UID:/content/rbb/rbb/imparlament/heute-im-parlament/archiv/heute-im-parlament-vom-02-04-2014---potsdam
DTSTAMP:20140405T091158
DESCRIPTION:Von der 91. Sitzung des Brandenburger Landtags berichtet Michael Schon. Seine Themen sind u.a. die Regierungserklärung zum Nachtflugverbot, der Abschlussbericht der Enquetekommission 5/1 über die Aufarbeitung der Nachwendezeit und das geänderte Hochschulgesetz.\n\n\n
SUMMARY:Heute im Parlament vom 02.04.2014 - Potsdam
END:VEVENT
END:VCALENDAR
