BEGIN:VCALENDAR
X-WR-TIMEZONE:Europe/Berlin
X-WR-CALNAME:rbb-Kalender
VERSION:2.0
METHOD:PUBLISH
CALSCALE:GREGORIAN
PRODID:rbb-CMS DAY
BEGIN:VEVENT
CLASS:PUBLIC
URL:http://www.rbb-online.de/content/rbb/rbb/imparlament/heute-im-parlament/archiv/heute-im-parlament-vom-20-03-2014---berlin.html
DTEND:20140320T170000
DTSTART:20140320T160500
UID:/content/rbb/rbb/imparlament/heute-im-parlament/archiv/heute-im-parlament-vom-20-03-2014---berlin
DTSTAMP:20140406T022600
DESCRIPTION:Fauler Kompromiss: Was bringt die Einigung am Oranienplatz? Geplatzter Entwurf: Wie steht das Abgeordnetenhaus zum Tempelhofer Feld? Sicherer Streit: Droht neuer Protest gegen den Weiterbau der A100? Von der 45. Plenarsitzung berichtet rbb-Reporter Florian Eckardt\n\n\n
SUMMARY:Heute im Parlament vom 20.03.2014 - Berlin
END:VEVENT
END:VCALENDAR
