BEGIN:VCALENDAR
X-WR-TIMEZONE:Europe/Berlin
X-WR-CALNAME:rbb-Kalender
VERSION:2.0
METHOD:PUBLISH
CALSCALE:GREGORIAN
PRODID:rbb-CMS DAY
BEGIN:VEVENT
CLASS:PUBLIC
URL:http://www.rbb-online.de/content/rbb/rbb/imparlament/heute-im-parlament/archiv/heute-im-parlament-vom-20-11-201312.html
DTEND:20131121T160500
DTSTART:20131121T160500
UID:/content/rbb/rbb/imparlament/heute-im-parlament/archiv/heute-im-parlament-vom-20-11-201312
DTSTAMP:20140406T022630
DESCRIPTION:Zum Auftakt gedachten die Abgeordneten der Taifun-Opfer auf den Philippinen. In 2. Lesung wurde ein Gesetz gegen die Zweckentfremdung von Wohnungen beschlossen. Wegen eines Brandes in der Lüftungsanlage musste die Sitzung vorzeitig abgebrochen werden. Reporterin vor Ort: Dorit Knieling \n\n\n
SUMMARY:Heute im Parlament vom 21.11.2013 - Berlin
END:VEVENT
END:VCALENDAR
