BEGIN:VCALENDAR
X-WR-TIMEZONE:Europe/Berlin
X-WR-CALNAME:rbb-Kalender
VERSION:2.0
METHOD:PUBLISH
CALSCALE:GREGORIAN
PRODID:rbb-CMS DAY
BEGIN:VEVENT
CLASS:PUBLIC
URL:http://www.rbb-online.de/content/rbb/rbb/imparlament/heute-im-parlament/archiv/heute-im-parlament-vom-23-01-14.html
DTEND:20140123T170000
DTSTART:20140123T160500
UID:/content/rbb/rbb/imparlament/heute-im-parlament/archiv/heute-im-parlament-vom-23-01-14
DTSTAMP:20140406T022551
DESCRIPTION:Rot oder weiß? Der weiße Adler im Plenarsaal des neuen Landtagsgebäudes in Potsdam sorgt für Unmut. Streit gab es auch über die Polizeireform. Wie ist es um die Sicherheit im Land bestellt? Fördermittelpleiten - der Wirtschaftsminister unter Druck. Reporter vor Ort: Hanno Christ\n\n\n
SUMMARY:Heute im Parlament vom 23.01.2014
END:VEVENT
END:VCALENDAR
