BEGIN:VCALENDAR
X-WR-TIMEZONE:Europe/Berlin
X-WR-CALNAME:rbb-Kalender
VERSION:2.0
METHOD:PUBLISH
CALSCALE:GREGORIAN
PRODID:rbb-CMS DAY
BEGIN:VEVENT
CLASS:PUBLIC
URL:http://www.rbb-online.de/content/rbb/rbb/imparlament/heute-im-parlament/archiv/heute-im-parlament-vom-30-01-2014---berlin.html
DTEND:20140130T170000
DTSTART:20140130T160500
UID:/content/rbb/rbb/imparlament/heute-im-parlament/archiv/heute-im-parlament-vom-30-01-2014---berlin
DTSTAMP:20140406T022608
DESCRIPTION:Themen der Sendung sind: Cybercrime - Wie sicher sind die Daten der Berliner? Landesgesetz zur Anerkennung ausländischer Berufsabschlüsse, Heim-TÜV für Flüchtlingsunterkünfte, Senat greift nach dem Gasnetz\n\nReporterin vor Ort: Dorit Knieling\n
SUMMARY:Heute im Parlament vom 30.01.2014 - Berlin
END:VEVENT
END:VCALENDAR
