BEGIN:VCALENDAR
X-WR-TIMEZONE:Europe/Berlin
X-WR-CALNAME:rbb-Kalender
VERSION:2.0
METHOD:PUBLISH
CALSCALE:GREGORIAN
PRODID:rbb-CMS DAY
BEGIN:VEVENT
CLASS:PUBLIC
URL:http://www.rbb-online.de/content/rbb/rbb/kessler/expeditionen/esel-ostsee/kesslers_expedition4.html
DTEND:20110613T201500
DTSTART:20110613T201500
UID:/content/rbb/rbb/kessler/expeditionen/esel-ostsee/kesslers_expedition4
DTSTAMP:20140405T010004
DESCRIPTION:Schauspieler und Comedian Michael Kessler ist mit Esel Elias von Berlin aus unterwegs nach Ahlbeck an der Ostsee. Unterwegs kommt Eifersucht auf ...\n
SUMMARY:Mit einem Esel an die Ostsee (2)
END:VEVENT
END:VCALENDAR
