BEGIN:VCALENDAR
X-WR-TIMEZONE:Europe/Berlin
X-WR-CALNAME:rbb-Kalender
VERSION:2.0
METHOD:PUBLISH
CALSCALE:GREGORIAN
PRODID:rbb-CMS DAY
BEGIN:VEVENT
CLASS:PUBLIC
URL:http://www.rbb-online.de/content/rbb/rbb/kessler/expeditionen/esel-ostsee/kesslers_expedition5.html
DTEND:20110620T201500
DTSTART:20110620T201500
UID:/content/rbb/rbb/kessler/expeditionen/esel-ostsee/kesslers_expedition5
DTSTAMP:20140405T005622
DESCRIPTION:In der einsamen Uckermark machen Elias und Michael Bekanntschaft mit Schlangen, Fröschen und Wildgänsen.\n
SUMMARY:Mit einem Esel an die Ostsee (3)
END:VEVENT
END:VCALENDAR
