BEGIN:VCALENDAR
X-WR-TIMEZONE:Europe/Berlin
X-WR-CALNAME:rbb-Kalender
VERSION:2.0
METHOD:PUBLISH
CALSCALE:GREGORIAN
PRODID:rbb-CMS DAY
BEGIN:VEVENT
CLASS:PUBLIC
URL:http://www.rbb-online.de/content/rbb/rbb/kessler/expeditionen/floss-havel/kesslers_expedition10.html
DTEND:20110916T201500
DTSTART:20110916T201500
UID:/content/rbb/rbb/kessler/expeditionen/floss-havel/kesslers_expedition10
DTSTAMP:20140405T005212
DESCRIPTION:Michael Kessler biegt mit seinem MF Schuhkarton in die Zielgerade. Von Brandenburg geht es nach Havelberg. Die letzten 69 Kilometer!\n
SUMMARY:Mit dem Floß auf der Havel (5)
END:VEVENT
END:VCALENDAR
