BEGIN:VCALENDAR
X-WR-TIMEZONE:Europe/Berlin
X-WR-CALNAME:rbb-Kalender
VERSION:2.0
METHOD:PUBLISH
CALSCALE:GREGORIAN
PRODID:rbb-CMS DAY
BEGIN:VEVENT
CLASS:PUBLIC
URL:http://www.rbb-online.de/content/rbb/rbb/kessler/expeditionen/huskys/huskys4.html
DTEND:20131227T210000
DTSTART:20131227T210000
UID:/content/rbb/rbb/kessler/expeditionen/huskys/huskys4
DTSTAMP:20140405T005811
DESCRIPTION:"Kesslers Expedition" geht ins Finale. Zum Auftakt der vierten und letzten Etappe startet Kessler mit seinen Huskys in Burg. Es geht über Cottbus und dem lausitzer Bohsdorf zum kältesten Ort Brandenburgs.\n
SUMMARY:So weit die Huskys laufen (4)
END:VEVENT
END:VCALENDAR
