BEGIN:VCALENDAR
X-WR-TIMEZONE:Europe/Berlin
X-WR-CALNAME:rbb-Kalender
VERSION:2.0
METHOD:PUBLISH
CALSCALE:GREGORIAN
PRODID:rbb-CMS DAY
BEGIN:VEVENT
CLASS:PUBLIC
URL:http://www.rbb-online.de/content/rbb/rbb/kessler/expeditionen/klapprad-kopenhagen/Klapprad_2.html
DTEND:20120824T201500
DTSTART:20120824T201500
UID:/content/rbb/rbb/kessler/expeditionen/klapprad-kopenhagen/Klapprad_2
DTSTAMP:20140405T005433
DESCRIPTION:In der zweiten Folge dieser Expedition heißt es für Michael Kessler Abschied nehmen von Dänemark. In Gedser besteigt er die Fähre, die Kurs nimmt auf Rostock.\n
SUMMARY:Mit dem Klapprad von Kopenhagen nach Berlin (2)
END:VEVENT
END:VCALENDAR
